BEGIN:VCALENDAR
VERSION:2.0
PRODID:-//wp-events-plugin.com//7.2.3.1//EN
TZID:America/New_York
X-WR-TIMEZONE:America/New_York
BEGIN:VEVENT
UID:2035@floridasportscards.com
DTSTART;TZID=America/New_York;VALUE=DATE:20260614
DTEND;TZID=America/New_York;VALUE=DATE:20260615
DTSTAMP:20260331T172439Z
URL:https://floridasportscards.com/events/midflorida-card-expo-port-st-luc
 ie-6/
SUMMARY:MidFlorida Card Expo - Port St. Lucie
DESCRIPTION:
ATTACH;FMTTYPE=image/jpeg:https://floridasportscards.com/wp-content/upload
 s/2025/12/0613-0614-MidFlorida.webp
CATEGORIES:Card Shows
LOCATION:MidFlorida Event Center\, 9261 SE Civic Center Pl\, Port St. Lucie
 \, FL\, 34952\, United States
X-APPLE-STRUCTURED-LOCATION;VALUE=URI;X-ADDRESS=9261 SE Civic Center Pl\, P
 ort St. Lucie\, FL\, 34952\, United States;X-APPLE-RADIUS=100;X-TITLE=MidF
 lorida Event Center:geo:0,0
END:VEVENT
BEGIN:VTIMEZONE
TZID:America/New_York
X-LIC-LOCATION:America/New_York
BEGIN:DAYLIGHT
DTSTART:20260308T030000
TZOFFSETFROM:-0500
TZOFFSETTO:-0400
TZNAME:EDT
END:DAYLIGHT
END:VTIMEZONE
END:VCALENDAR