BEGIN:VCALENDAR
VERSION:2.0
PRODID:-//wp-events-plugin.com//7.2.3.1//EN
TZID:America/New_York
X-WR-TIMEZONE:America/New_York
BEGIN:VEVENT
UID:1724@floridasportscards.com
DTSTART;TZID=America/New_York:20260201T100000
DTEND;TZID=America/New_York:20260201T160000
DTSTAMP:20260114T035423Z
URL:https://floridasportscards.com/events/naples-card-show-naples/
SUMMARY:Naples Card Show - Naples
DESCRIPTION:
ATTACH;FMTTYPE=image/jpeg:https://floridasportscards.com/wp-content/upload
 s/2026/01/0201-Naples.webp
CATEGORIES:Card Shows
LOCATION:The White Rose\, 2320 Moulder Dr\, Naples\, FL\, United States
X-APPLE-STRUCTURED-LOCATION;VALUE=URI;X-ADDRESS=2320 Moulder Dr\, Naples\, 
 FL\, United States;X-APPLE-RADIUS=100;X-TITLE=The White Rose:geo:0,0
END:VEVENT
BEGIN:VTIMEZONE
TZID:America/New_York
X-LIC-LOCATION:America/New_York
BEGIN:STANDARD
DTSTART:20251102T010000
TZOFFSETFROM:-0400
TZOFFSETTO:-0500
TZNAME:EST
END:STANDARD
END:VTIMEZONE
END:VCALENDAR