BEGIN:VCALENDAR
VERSION:2.0
PRODID:-//wp-events-plugin.com//7.2.3.1//EN
TZID:America/New_York
X-WR-TIMEZONE:America/New_York
BEGIN:VEVENT
UID:1734@floridasportscards.com
DTSTART;TZID=America/New_York:20260531T100000
DTEND;TZID=America/New_York:20260531T150000
DTSTAMP:20260331T012442Z
URL:https://floridasportscards.com/events/nature-coast-sports-card-memorab
 ilia-collectibles-show-new-port-richey-12/
SUMMARY:Nature Coast Sports Card\, Memorabilia & Collectibles Show -  New P
 ort Richey
DESCRIPTION:
ATTACH;FMTTYPE=image/jpeg:https://floridasportscards.com/wp-content/upload
 s/2026/01/0530-0531-Rare-Bare.webp
CATEGORIES:Card Shows
LOCATION:Quality Inn - New Port Richey\, 5316 US-19\, New Port Richey\, FL\
 , 34652\, United States
X-APPLE-STRUCTURED-LOCATION;VALUE=URI;X-ADDRESS=5316 US-19\, New Port Riche
 y\, FL\, 34652\, United States;X-APPLE-RADIUS=100;X-TITLE=Quality Inn - Ne
 w Port Richey:geo:0,0
END:VEVENT
BEGIN:VTIMEZONE
TZID:America/New_York
X-LIC-LOCATION:America/New_York
BEGIN:DAYLIGHT
DTSTART:20260308T030000
TZOFFSETFROM:-0500
TZOFFSETTO:-0400
TZNAME:EDT
END:DAYLIGHT
END:VTIMEZONE
END:VCALENDAR