BEGIN:VCALENDAR
VERSION:2.0
PRODID:-//wp-events-plugin.com//7.2.3.1//EN
TZID:America/New_York
X-WR-TIMEZONE:America/New_York
BEGIN:VEVENT
UID:1595@floridasportscards.com
DTSTART;TZID=America/New_York:20260110T100000
DTEND;TZID=America/New_York:20260110T160000
DTSTAMP:20260106T041202Z
URL:https://floridasportscards.com/events/ocala-classic-sports-and-pokemon
 -card-show-ocala/
SUMMARY:Ocala Classic Sports and Pokemon Card Show - Ocala
DESCRIPTION:
ATTACH;FMTTYPE=image/jpeg:https://floridasportscards.com/wp-content/upload
 s/2026/01/0110-Ocala-Classic-1.webp
CATEGORIES:Card Shows
LOCATION:Hilton - Ocala\, 3600 SW 36th Ave\, Ocala\, FL\, 34474\, United St
 ates
X-APPLE-STRUCTURED-LOCATION;VALUE=URI;X-ADDRESS=3600 SW 36th Ave\, Ocala\, 
 FL\, 34474\, United States;X-APPLE-RADIUS=100;X-TITLE=Hilton - Ocala:geo:0
 ,0
END:VEVENT
BEGIN:VTIMEZONE
TZID:America/New_York
X-LIC-LOCATION:America/New_York
BEGIN:STANDARD
DTSTART:20251102T010000
TZOFFSETFROM:-0400
TZOFFSETTO:-0500
TZNAME:EST
END:STANDARD
END:VTIMEZONE
END:VCALENDAR