BEGIN:VCALENDAR
VERSION:2.0
PRODID:-//wp-events-plugin.com//7.2.3.1//EN
TZID:America/New_York
X-WR-TIMEZONE:America/New_York
BEGIN:VEVENT
UID:1869@floridasportscards.com
DTSTART;TZID=America/New_York:20260221T190000
DTEND;TZID=America/New_York:20260221T190000
DTSTAMP:20260220T184517Z
URL:https://floridasportscards.com/events/official-collect-a-con-after-par
 ty-at-collectors-club-miami/
SUMMARY:Official Collect-a-Con After Party at Collectors Club - Miami
DESCRIPTION:
ATTACH;FMTTYPE=image/jpeg:https://floridasportscards.com/wp-content/upload
 s/2026/02/0221-Collect-a-Con-after-party.webp
CATEGORIES:In-Store Event
LOCATION:Collectors Club\, 2812 NW 2nd Ave\, Miami\, FL\, 33127\, United St
 ates
X-APPLE-STRUCTURED-LOCATION;VALUE=URI;X-ADDRESS=2812 NW 2nd Ave\, Miami\, F
 L\, 33127\, United States;X-APPLE-RADIUS=100;X-TITLE=Collectors Club:geo:0
 ,0
END:VEVENT
BEGIN:VTIMEZONE
TZID:America/New_York
X-LIC-LOCATION:America/New_York
BEGIN:STANDARD
DTSTART:20251102T010000
TZOFFSETFROM:-0400
TZOFFSETTO:-0500
TZNAME:EST
END:STANDARD
END:VTIMEZONE
END:VCALENDAR