BEGIN:VCALENDAR
VERSION:2.0
PRODID:-//wp-events-plugin.com//7.2.3.1//EN
TZID:America/New_York
X-WR-TIMEZONE:America/New_York
BEGIN:VEVENT
UID:1868@floridasportscards.com
DTSTART;TZID=America/New_York:20260221T090000
DTEND;TZID=America/New_York:20260221T150000
DTSTAMP:20260219T232802Z
URL:https://floridasportscards.com/events/orlando-card-show-apopka-2/
SUMMARY:Orlando Card Show - Apopka
DESCRIPTION:Orlando card show at the bahia shriners in Apopka
ATTACH;FMTTYPE=image/jpeg:https://floridasportscards.com/wp-content/upload
 s/2026/02/0220-0221-Orlando.webp
CATEGORIES:Card Shows
LOCATION:Bahia Shriners\, 3101 E Semoran Blvd\, Apopka\, FL\, 32703\, Unite
 d States
X-APPLE-STRUCTURED-LOCATION;VALUE=URI;X-ADDRESS=3101 E Semoran Blvd\, Apopk
 a\, FL\, 32703\, United States;X-APPLE-RADIUS=100;X-TITLE=Bahia Shriners:g
 eo:0,0
END:VEVENT
BEGIN:VTIMEZONE
TZID:America/New_York
X-LIC-LOCATION:America/New_York
BEGIN:STANDARD
DTSTART:20251102T010000
TZOFFSETFROM:-0400
TZOFFSETTO:-0500
TZNAME:EST
END:STANDARD
END:VTIMEZONE
END:VCALENDAR