BEGIN:VCALENDAR
VERSION:2.0
PRODID:-//wp-events-plugin.com//7.2.3.1//EN
TZID:America/New_York
X-WR-TIMEZONE:America/New_York
BEGIN:VEVENT
UID:2028@floridasportscards.com
DTSTART;TZID=America/New_York:20260425T150000
DTEND;TZID=America/New_York:20260425T200000
DTSTAMP:20260327T175731Z
URL:https://floridasportscards.com/events/pac-card-show-lakeland/
SUMMARY:PAC Card Show - Lakeland
DESCRIPTION:
ATTACH;FMTTYPE=image/jpeg:https://floridasportscards.com/wp-content/upload
 s/2026/03/0425-PAC-Card-Show.webp
CATEGORIES:Card Shows
LOCATION:Polk Athletic Complex\, 3395 W Memorial Blvd\, Lakeland\, FL\, 338
 15\, United States
X-APPLE-STRUCTURED-LOCATION;VALUE=URI;X-ADDRESS=3395 W Memorial Blvd\, Lake
 land\, FL\, 33815\, United States;X-APPLE-RADIUS=100;X-TITLE=Polk Athletic
  Complex:geo:0,0
END:VEVENT
BEGIN:VTIMEZONE
TZID:America/New_York
X-LIC-LOCATION:America/New_York
BEGIN:DAYLIGHT
DTSTART:20260308T030000
TZOFFSETFROM:-0500
TZOFFSETTO:-0400
TZNAME:EDT
END:DAYLIGHT
END:VTIMEZONE
END:VCALENDAR