BEGIN:VCALENDAR
VERSION:2.0
PRODID:-//wp-events-plugin.com//7.2.3.1//EN
TZID:America/New_York
X-WR-TIMEZONE:America/New_York
BEGIN:VEVENT
UID:1520@floridasportscards.com
DTSTART;TZID=America/New_York:20260118T100000
DTEND;TZID=America/New_York:20260118T150000
DTSTAMP:20251209T041529Z
URL:https://floridasportscards.com/events/palm-beach-kennel-club-card-show
 -west-palm-beach-2/
SUMMARY:Palm Beach Kennel Club Card Show - West Palm Beach
DESCRIPTION:
ATTACH;FMTTYPE=image/jpeg:https://floridasportscards.com/wp-content/upload
 s/2024/01/Palm-Beach-Kennel-Club.jpg
CATEGORIES:Card Shows
LOCATION:Palm Beach Kennel Club\, 1111 N Congress Ave\, West Palm Beach\, F
 L\, 33409\, United States
X-APPLE-STRUCTURED-LOCATION;VALUE=URI;X-ADDRESS=1111 N Congress Ave\, West 
 Palm Beach\, FL\, 33409\, United States;X-APPLE-RADIUS=100;X-TITLE=Palm Be
 ach Kennel Club:geo:0,0
END:VEVENT
BEGIN:VTIMEZONE
TZID:America/New_York
X-LIC-LOCATION:America/New_York
BEGIN:STANDARD
DTSTART:20251102T010000
TZOFFSETFROM:-0400
TZOFFSETTO:-0500
TZNAME:EST
END:STANDARD
END:VTIMEZONE
END:VCALENDAR