BEGIN:VCALENDAR
VERSION:2.0
PRODID:-//wp-events-plugin.com//7.2.3.1//EN
TZID:America/New_York
X-WR-TIMEZONE:America/New_York
BEGIN:VEVENT
UID:1531@floridasportscards.com
DTSTART;TZID=America/New_York:20260111T100000
DTEND;TZID=America/New_York:20260111T160000
DTSTAMP:20251210T014131Z
URL:https://floridasportscards.com/events/pga-sports-tcg-show-palm-beach-g
 ardens-2/
SUMMARY:PGA Sports & TCG Show - Palm Beach Gardens
DESCRIPTION:
ATTACH;FMTTYPE=image/jpeg:https://floridasportscards.com/wp-content/upload
 s/2025/12/0111-PGA-Show.png
CATEGORIES:Card Shows
LOCATION:Embassy Suites - Palm Beach Gardens\, 4350 PGA Blvd\, Palm Beach G
 ardens\, FL\, 33410\, United States
X-APPLE-STRUCTURED-LOCATION;VALUE=URI;X-ADDRESS=4350 PGA Blvd\, Palm Beach 
 Gardens\, FL\, 33410\, United States;X-APPLE-RADIUS=100;X-TITLE=Embassy Su
 ites - Palm Beach Gardens:geo:0,0
END:VEVENT
BEGIN:VTIMEZONE
TZID:America/New_York
X-LIC-LOCATION:America/New_York
BEGIN:STANDARD
DTSTART:20251102T010000
TZOFFSETFROM:-0400
TZOFFSETTO:-0500
TZNAME:EST
END:STANDARD
END:VTIMEZONE
END:VCALENDAR