BEGIN:VCALENDAR
VERSION:2.0
PRODID:-//wp-events-plugin.com//7.2.3.1//EN
TZID:America/New_York
X-WR-TIMEZONE:America/New_York
BEGIN:VEVENT
UID:1931@floridasportscards.com
DTSTART;TZID=America/New_York:20260307T120000
DTEND;TZID=America/New_York:20260307T180000
DTSTAMP:20260304T043319Z
URL:https://floridasportscards.com/events/pokeville-card-show-gainesville-
 2026-03-07/
SUMMARY:Poke'Ville Card Show - Gainesville
DESCRIPTION:
ATTACH;FMTTYPE=image/jpeg:https://floridasportscards.com/wp-content/upload
 s/2026/03/0307-0308-PokeVille.webp
CATEGORIES:Card Shows
LOCATION:The Oaks Mall\, 6419 Newberry Rd\, Gainesville\, FL\, 32605\, Unit
 ed States
X-APPLE-STRUCTURED-LOCATION;VALUE=URI;X-ADDRESS=6419 Newberry Rd\, Gainesvi
 lle\, FL\, 32605\, United States;X-APPLE-RADIUS=100;X-TITLE=The Oaks Mall:
 geo:0,0
END:VEVENT
BEGIN:VTIMEZONE
TZID:America/New_York
X-LIC-LOCATION:America/New_York
BEGIN:STANDARD
DTSTART:20251102T010000
TZOFFSETFROM:-0400
TZOFFSETTO:-0500
TZNAME:EST
END:STANDARD
END:VTIMEZONE
END:VCALENDAR