BEGIN:VCALENDAR
VERSION:2.0
PRODID:-//wp-events-plugin.com//7.2.3.1//EN
TZID:America/New_York
X-WR-TIMEZONE:America/New_York
BEGIN:VEVENT
UID:2022@floridasportscards.com
DTSTART;TZID=America/New_York:20260412T120000
DTEND;TZID=America/New_York:20260412T180000
DTSTAMP:20260325T172328Z
URL:https://floridasportscards.com/events/pokeville-gainesville-2026-04-11
 -2026-04-12/
SUMMARY:Poke'Ville - Gainesville
DESCRIPTION:
ATTACH;FMTTYPE=image/jpeg:https://floridasportscards.com/wp-content/upload
 s/2026/03/0411-0412-Pokeville.webp
CATEGORIES:Card Shows
LOCATION:The Oaks Mall\, 6419 Newberry Rd\, Gainesville\, FL\, 32605\, Unit
 ed States
X-APPLE-STRUCTURED-LOCATION;VALUE=URI;X-ADDRESS=6419 Newberry Rd\, Gainesvi
 lle\, FL\, 32605\, United States;X-APPLE-RADIUS=100;X-TITLE=The Oaks Mall:
 geo:0,0
END:VEVENT
BEGIN:VTIMEZONE
TZID:America/New_York
X-LIC-LOCATION:America/New_York
BEGIN:DAYLIGHT
DTSTART:20260308T030000
TZOFFSETFROM:-0500
TZOFFSETTO:-0400
TZNAME:EDT
END:DAYLIGHT
END:VTIMEZONE
END:VCALENDAR