BEGIN:VCALENDAR
VERSION:2.0
PRODID:-//wp-events-plugin.com//7.2.3.1//EN
TZID:America/New_York
X-WR-TIMEZONE:America/New_York
BEGIN:VEVENT
UID:1925@floridasportscards.com
DTSTART;TZID=America/New_York:20261107T090000
DTEND;TZID=America/New_York:20261107T150000
DTSTAMP:20260304T042457Z
URL:https://floridasportscards.com/events/port-saint-lucie-card-show-port-
 st-lucie-2026-04-04-2026-05-02-2026-06-06-2026-07-04-2026-08-01-2026-09-05
 -2026-10-03-2026-11-07/
SUMMARY:Port Saint Lucie Card Show - Port St. Lucie
DESCRIPTION:
ATTACH;FMTTYPE=image/jpeg:https://floridasportscards.com/wp-content/upload
 s/2024/01/PSL.png
CATEGORIES:Card Shows
LOCATION:Polish American Club Convention Center\, 343 NE Prima Vista Blvd\,
  Port St. Lucie\, FL\, United States
X-APPLE-STRUCTURED-LOCATION;VALUE=URI;X-ADDRESS=343 NE Prima Vista Blvd\, P
 ort St. Lucie\, FL\, United States;X-APPLE-RADIUS=100;X-TITLE=Polish Ameri
 can Club Convention Center:geo:0,0
END:VEVENT
BEGIN:VTIMEZONE
TZID:America/New_York
X-LIC-LOCATION:America/New_York
BEGIN:STANDARD
DTSTART:20261101T010000
TZOFFSETFROM:-0400
TZOFFSETTO:-0500
TZNAME:EST
END:STANDARD
END:VTIMEZONE
END:VCALENDAR