BEGIN:VCALENDAR
VERSION:2.0
PRODID:-//wp-events-plugin.com//7.2.3.1//EN
TZID:America/New_York
X-WR-TIMEZONE:America/New_York
BEGIN:VEVENT
UID:1525@floridasportscards.com
DTSTART;TZID=America/New_York:20260222T090000
DTEND;TZID=America/New_York:20260222T150000
DTSTAMP:20260114T030010Z
URL:https://floridasportscards.com/events/port-st-lucie-card-show-port-st-
 lucie-6/
SUMMARY:Treasure Coast Card Show - Port St. Lucie
DESCRIPTION:
ATTACH;FMTTYPE=image/jpeg:https://floridasportscards.com/wp-content/upload
 s/2025/12/0221-22-Treasure-Coast.webp
CATEGORIES:Card Shows
LOCATION:Polish American Club Convention Center\, 343 NE Prima Vista Blvd\,
  Port St. Lucie\, FL\, United States
X-APPLE-STRUCTURED-LOCATION;VALUE=URI;X-ADDRESS=343 NE Prima Vista Blvd\, P
 ort St. Lucie\, FL\, United States;X-APPLE-RADIUS=100;X-TITLE=Polish Ameri
 can Club Convention Center:geo:0,0
END:VEVENT
BEGIN:VTIMEZONE
TZID:America/New_York
X-LIC-LOCATION:America/New_York
BEGIN:STANDARD
DTSTART:20251102T010000
TZOFFSETFROM:-0400
TZOFFSETTO:-0500
TZNAME:EST
END:STANDARD
END:VTIMEZONE
END:VCALENDAR