BEGIN:VCALENDAR
VERSION:2.0
PRODID:-//wp-events-plugin.com//7.2.3.1//EN
TZID:America/New_York
X-WR-TIMEZONE:America/New_York
BEGIN:VEVENT
UID:1716@floridasportscards.com
DTSTART;TZID=America/New_York:20260117T180000
DTEND;TZID=America/New_York:20260117T180000
DTSTAMP:20260113T034214Z
URL:https://floridasportscards.com/events/rip-night-at-instant-replay-spor
 ts-cards-panama-city/
SUMMARY:Rip Night at Instant Replay Sports Cards - Panama City
DESCRIPTION:
CATEGORIES:In-Store Event
LOCATION:Instant Replay Sports Cards\, 752 W 23rd St\, Panama City\, FL\, U
 nited States
X-APPLE-STRUCTURED-LOCATION;VALUE=URI;X-ADDRESS=752 W 23rd St\, Panama City
 \, FL\, United States;X-APPLE-RADIUS=100;X-TITLE=Instant Replay Sports Car
 ds:geo:0,0
END:VEVENT
BEGIN:VTIMEZONE
TZID:America/New_York
X-LIC-LOCATION:America/New_York
BEGIN:STANDARD
DTSTART:20251102T010000
TZOFFSETFROM:-0400
TZOFFSETTO:-0500
TZNAME:EST
END:STANDARD
END:VTIMEZONE
END:VCALENDAR