BEGIN:VCALENDAR
VERSION:2.0
PRODID:-//wp-events-plugin.com//7.2.3.1//EN
TZID:America/New_York
X-WR-TIMEZONE:America/New_York
BEGIN:VEVENT
UID:1794@floridasportscards.com
DTSTART;TZID=America/New_York;VALUE=DATE:20261121
DTEND;TZID=America/New_York;VALUE=DATE:20261122
DTSTAMP:20260127T041207Z
URL:https://floridasportscards.com/events/river-city-card-show-jacksonvill
 e-2026-02-21-2026-03-21-2026-04-18-2026-05-16-2026-06-20-2026-07-18-2026-0
 8-15-2026-09-19-2026-10-17-2026-11-21/
SUMMARY:River City Card Show - Jacksonville
DESCRIPTION:
ATTACH;FMTTYPE=image/jpeg:https://floridasportscards.com/wp-content/upload
 s/2026/01/River-City-2026.png
CATEGORIES:Card Shows
LOCATION:Southbank Hotel\, 1515 Prudential Dr\, Jacksonville\, FL\, 32207\,
  United States
X-APPLE-STRUCTURED-LOCATION;VALUE=URI;X-ADDRESS=1515 Prudential Dr\, Jackso
 nville\, FL\, 32207\, United States;X-APPLE-RADIUS=100;X-TITLE=Southbank H
 otel:geo:0,0
END:VEVENT
BEGIN:VTIMEZONE
TZID:America/New_York
X-LIC-LOCATION:America/New_York
BEGIN:STANDARD
DTSTART:20261101T010000
TZOFFSETFROM:-0400
TZOFFSETTO:-0500
TZNAME:EST
END:STANDARD
END:VTIMEZONE
END:VCALENDAR