BEGIN:VCALENDAR
VERSION:2.0
PRODID:-//wp-events-plugin.com//7.2.3.1//EN
TZID:America/New_York
X-WR-TIMEZONE:America/New_York
BEGIN:VEVENT
UID:1797@floridasportscards.com
DTSTART;TZID=America/New_York;VALUE=DATE:20260705
DTEND;TZID=America/New_York;VALUE=DATE:20260706
DTSTAMP:20260127T041329Z
URL:https://floridasportscards.com/events/river-city-card-show-jacksonvill
 e-4/
SUMMARY:River City Card Show - Jacksonville
DESCRIPTION:
ATTACH;FMTTYPE=image/jpeg:https://floridasportscards.com/wp-content/upload
 s/2026/01/River-City-2026.png
CATEGORIES:Card Shows
LOCATION:Southbank Hotel\, 1515 Prudential Dr\, Jacksonville\, FL\, 32207\,
  United States
X-APPLE-STRUCTURED-LOCATION;VALUE=URI;X-ADDRESS=1515 Prudential Dr\, Jackso
 nville\, FL\, 32207\, United States;X-APPLE-RADIUS=100;X-TITLE=Southbank H
 otel:geo:0,0
END:VEVENT
BEGIN:VTIMEZONE
TZID:America/New_York
X-LIC-LOCATION:America/New_York
BEGIN:DAYLIGHT
DTSTART:20260308T030000
TZOFFSETFROM:-0500
TZOFFSETTO:-0400
TZNAME:EDT
END:DAYLIGHT
END:VTIMEZONE
END:VCALENDAR