BEGIN:VCALENDAR
VERSION:2.0
PRODID:-//wp-events-plugin.com//7.2.3.1//EN
TZID:America/New_York
X-WR-TIMEZONE:America/New_York
BEGIN:VEVENT
UID:1503@floridasportscards.com
DTSTART;TZID=America/New_York;VALUE=DATE:20260103
DTEND;TZID=America/New_York;VALUE=DATE:20260104
DTSTAMP:20251208T033131Z
URL:https://floridasportscards.com/events/rocket-con-melbourne/
SUMMARY:Rocket Con - Melbourne
DESCRIPTION:
ATTACH;FMTTYPE=image/jpeg:https://floridasportscards.com/wp-content/upload
 s/2025/12/Rocket-Con.png
CATEGORIES:Card Shows
LOCATION:Melbourne Auditorium\, 625 E Hibiscus Blvd\, Melbourne\, FL\, 3290
 1\, United States
X-APPLE-STRUCTURED-LOCATION;VALUE=URI;X-ADDRESS=625 E Hibiscus Blvd\, Melbo
 urne\, FL\, 32901\, United States;X-APPLE-RADIUS=100;X-TITLE=Melbourne Aud
 itorium:geo:0,0
END:VEVENT
BEGIN:VTIMEZONE
TZID:America/New_York
X-LIC-LOCATION:America/New_York
BEGIN:STANDARD
DTSTART:20251102T010000
TZOFFSETFROM:-0400
TZOFFSETTO:-0500
TZNAME:EST
END:STANDARD
END:VTIMEZONE
END:VCALENDAR