BEGIN:VCALENDAR
VERSION:2.0
PRODID:-//wp-events-plugin.com//7.2.3.1//EN
TZID:America/New_York
X-WR-TIMEZONE:America/New_York
BEGIN:VEVENT
UID:1871@floridasportscards.com
DTSTART;TZID=America/New_York:20260308T160000
DTEND;TZID=America/New_York:20260308T173000
DTSTAMP:20260224T033915Z
URL:https://floridasportscards.com/events/sandis-vilmanis-autograph-signin
 g-davie/
SUMMARY:Sandis Vilmanis Autograph Signing - Davie
DESCRIPTION:
ATTACH;FMTTYPE=image/jpeg:https://floridasportscards.com/wp-content/upload
 s/2026/02/0308-Sandis-Vilmanis.webp
CATEGORIES:Autograph Signings
LOCATION:CanesWear\, 2655 S University Dr\, Davie\, FL\, 33328\, United Sta
 tes
X-APPLE-STRUCTURED-LOCATION;VALUE=URI;X-ADDRESS=2655 S University Dr\, Davi
 e\, FL\, 33328\, United States;X-APPLE-RADIUS=100;X-TITLE=CanesWear:geo:0,
 0
END:VEVENT
BEGIN:VTIMEZONE
TZID:America/New_York
X-LIC-LOCATION:America/New_York
BEGIN:DAYLIGHT
DTSTART:20260308T030000
TZOFFSETFROM:-0500
TZOFFSETTO:-0400
TZNAME:EDT
END:DAYLIGHT
END:VTIMEZONE
END:VCALENDAR