BEGIN:VCALENDAR
VERSION:2.0
PRODID:-//wp-events-plugin.com//7.2.3.1//EN
TZID:America/New_York
X-WR-TIMEZONE:America/New_York
BEGIN:VEVENT
UID:1621@floridasportscards.com
DTSTART;TZID=America/New_York:20260404T090000
DTEND;TZID=America/New_York:20260404T170000
DTSTAMP:20260403T021424Z
URL:https://floridasportscards.com/events/seminole-sports-card-show-semino
 le-2-2026-04-04/
SUMMARY:Seminole Sports Card Show - Seminole
DESCRIPTION:
ATTACH;FMTTYPE=image/jpeg:https://floridasportscards.com/wp-content/upload
 s/2026/01/0404-Seminole.webp
CATEGORIES:Card Shows
LOCATION:Seminole Recreation Center\, 9100 113th St N\, Seminole\, FL\, 337
 72\, United States
X-APPLE-STRUCTURED-LOCATION;VALUE=URI;X-ADDRESS=9100 113th St N\, Seminole\
 , FL\, 33772\, United States;X-APPLE-RADIUS=100;X-TITLE=Seminole Recreatio
 n Center:geo:0,0
END:VEVENT
BEGIN:VTIMEZONE
TZID:America/New_York
X-LIC-LOCATION:America/New_York
BEGIN:DAYLIGHT
DTSTART:20260308T030000
TZOFFSETFROM:-0500
TZOFFSETTO:-0400
TZNAME:EDT
END:DAYLIGHT
END:VTIMEZONE
END:VCALENDAR