BEGIN:VCALENDAR
VERSION:2.0
PRODID:-//wp-events-plugin.com//7.2.3.1//EN
TZID:America/New_York
X-WR-TIMEZONE:America/New_York
BEGIN:VEVENT
UID:2065@floridasportscards.com
DTSTART;TZID=America/New_York:20260418T100000
DTEND;TZID=America/New_York:20260418T160000
DTSTAMP:20260417T012706Z
URL:https://floridasportscards.com/events/sinbad-sports-card-and-memorabil
 ia-show-fort-lauderdale/
SUMMARY:Sinbad Sports Card and Memorabilia Show - Fort Lauderdale
DESCRIPTION:
ATTACH;FMTTYPE=image/jpeg:https://floridasportscards.com/wp-content/upload
 s/2026/04/0418-Sinbad.webp
CATEGORIES:Card Shows
LOCATION:Coral Ridge Mall\, 3200 N Federal Hwy\, Fort Lauderdale\, FL\, 333
 06\, United States
X-APPLE-STRUCTURED-LOCATION;VALUE=URI;X-ADDRESS=3200 N Federal Hwy\, Fort L
 auderdale\, FL\, 33306\, United States;X-APPLE-RADIUS=100;X-TITLE=Coral Ri
 dge Mall:geo:0,0
END:VEVENT
BEGIN:VTIMEZONE
TZID:America/New_York
X-LIC-LOCATION:America/New_York
BEGIN:DAYLIGHT
DTSTART:20260308T030000
TZOFFSETFROM:-0500
TZOFFSETTO:-0400
TZNAME:EDT
END:DAYLIGHT
END:VTIMEZONE
END:VCALENDAR