BEGIN:VCALENDAR
VERSION:2.0
PRODID:-//wp-events-plugin.com//7.2.3.1//EN
TZID:America/New_York
X-WR-TIMEZONE:America/New_York
BEGIN:VEVENT
UID:1251@floridasportscards.com
DTSTART;TZID=America/New_York;VALUE=DATE:20260412
DTEND;TZID=America/New_York;VALUE=DATE:20260413
DTSTAMP:20250930T005607Z
URL:https://floridasportscards.com/events/space-coast-card-show-cape-canav
 eral-4/
SUMMARY:Space Coast Card Show - Cape Canaveral
DESCRIPTION:
ATTACH;FMTTYPE=image/jpeg:https://floridasportscards.com/wp-content/upload
 s/2025/09/Space-Coast-2026.jpg
CATEGORIES:Card Shows
LOCATION:Radisson Resort at the Port\, 8701 Astronaut Blvd\, Cape Canaveral
 \, FL\, 32920\, United States
X-APPLE-STRUCTURED-LOCATION;VALUE=URI;X-ADDRESS=8701 Astronaut Blvd\, Cape 
 Canaveral\, FL\, 32920\, United States;X-APPLE-RADIUS=100;X-TITLE=Radisson
  Resort at the Port:geo:0,0
END:VEVENT
BEGIN:VTIMEZONE
TZID:America/New_York
X-LIC-LOCATION:America/New_York
BEGIN:DAYLIGHT
DTSTART:20260308T030000
TZOFFSETFROM:-0500
TZOFFSETTO:-0400
TZNAME:EDT
END:DAYLIGHT
END:VTIMEZONE
END:VCALENDAR