BEGIN:VCALENDAR
VERSION:2.0
PRODID:-//wp-events-plugin.com//7.2.3.1//EN
TZID:America/New_York
X-WR-TIMEZONE:America/New_York
BEGIN:VEVENT
UID:1498@floridasportscards.com
DTSTART;TZID=America/New_York;VALUE=DATE:20260321
DTEND;TZID=America/New_York;VALUE=DATE:20260322
DTSTAMP:20251202T040642Z
URL:https://floridasportscards.com/events/sports-cards-collectibles-show-p
 ensacola-2/
SUMMARY:Sports Cards & Collectibles Show - Pensacola
DESCRIPTION:
ATTACH;FMTTYPE=image/jpeg:https://floridasportscards.com/wp-content/upload
 s/2025/12/0320-0321-Pensacola.jpg
CATEGORIES:Card Shows
LOCATION:Rest and Relax Inn\, 7200 Plantation Rd\, Pensacola\, FL\, 32504\,
  United States
X-APPLE-STRUCTURED-LOCATION;VALUE=URI;X-ADDRESS=7200 Plantation Rd\, Pensac
 ola\, FL\, 32504\, United States;X-APPLE-RADIUS=100;X-TITLE=Rest and Relax
  Inn:geo:0,0
END:VEVENT
BEGIN:VTIMEZONE
TZID:America/New_York
X-LIC-LOCATION:America/New_York
BEGIN:DAYLIGHT
DTSTART:20260308T030000
TZOFFSETFROM:-0500
TZOFFSETTO:-0400
TZNAME:EDT
END:DAYLIGHT
END:VTIMEZONE
END:VCALENDAR