BEGIN:VCALENDAR
VERSION:2.0
PRODID:-//wp-events-plugin.com//7.2.3.1//EN
TZID:America/New_York
X-WR-TIMEZONE:America/New_York
BEGIN:VEVENT
UID:1873@floridasportscards.com
DTSTART;TZID=America/New_York:20260320T170000
DTEND;TZID=America/New_York:20260320T200000
DTSTAMP:20260301T022845Z
URL:https://floridasportscards.com/events/sports-cards-collectibles-trade-
 night-pensacola/
SUMMARY:Sports Cards & Collectibles Trade Night - Pensacola
DESCRIPTION:
ATTACH;FMTTYPE=image/jpeg:https://floridasportscards.com/wp-content/upload
 s/2026/02/0320-Pensacola-trade-night.webp
CATEGORIES:In-Store Event
LOCATION:Rest and Relax Inn\, 7200 Plantation Rd\, Pensacola\, FL\, 32504\,
  United States
X-APPLE-STRUCTURED-LOCATION;VALUE=URI;X-ADDRESS=7200 Plantation Rd\, Pensac
 ola\, FL\, 32504\, United States;X-APPLE-RADIUS=100;X-TITLE=Rest and Relax
  Inn:geo:0,0
END:VEVENT
BEGIN:VTIMEZONE
TZID:America/New_York
X-LIC-LOCATION:America/New_York
BEGIN:DAYLIGHT
DTSTART:20260308T030000
TZOFFSETFROM:-0500
TZOFFSETTO:-0400
TZNAME:EDT
END:DAYLIGHT
END:VTIMEZONE
END:VCALENDAR