BEGIN:VCALENDAR
VERSION:2.0
PRODID:-//wp-events-plugin.com//7.2.3.1//EN
TZID:America/New_York
X-WR-TIMEZONE:America/New_York
BEGIN:VEVENT
UID:1526@floridasportscards.com
DTSTART;TZID=America/New_York:20260228T090000
DTEND;TZID=America/New_York:20260228T160000
DTSTAMP:20260208T170325Z
URL:https://floridasportscards.com/events/spring-hill-collectibles-showcas
 e-spring-hill/
SUMMARY:Spring Hill Collectibles Showcase - Spring Hill
DESCRIPTION:Spring Hill Card Show\n
ATTACH;FMTTYPE=image/jpeg:https://floridasportscards.com/wp-content/upload
 s/2025/12/0228-Spring-Hill.webp
CATEGORIES:Card Shows
LOCATION:St. Joan of Arc Parish Hall\, 13485 Spring Hill Dr\, Spring Hill\,
  FL\, 34609\, United States
X-APPLE-STRUCTURED-LOCATION;VALUE=URI;X-ADDRESS=13485 Spring Hill Dr\, Spri
 ng Hill\, FL\, 34609\, United States;X-APPLE-RADIUS=100;X-TITLE=St. Joan o
 f Arc Parish Hall:geo:0,0
END:VEVENT
BEGIN:VTIMEZONE
TZID:America/New_York
X-LIC-LOCATION:America/New_York
BEGIN:STANDARD
DTSTART:20251102T010000
TZOFFSETFROM:-0400
TZOFFSETTO:-0500
TZNAME:EST
END:STANDARD
END:VTIMEZONE
END:VCALENDAR