BEGIN:VCALENDAR
VERSION:2.0
PRODID:-//wp-events-plugin.com//7.2.3.1//EN
TZID:America/New_York
X-WR-TIMEZONE:America/New_York
BEGIN:VEVENT
UID:1915@floridasportscards.com
DTSTART;TZID=America/New_York:20260516T090000
DTEND;TZID=America/New_York:20260516T160000
DTSTAMP:20260304T042130Z
URL:https://floridasportscards.com/events/spring-hill-showcase-spring-hill
 -3/
SUMMARY:Spring Hill Showcase - Spring Hill
DESCRIPTION:Spring Hill Showcase Card Show 
CATEGORIES:Card Shows
LOCATION:St. Joan of Arc Parish Hall\, 13485 Spring Hill Dr\, Spring Hill\,
  FL\, 34609\, United States
X-APPLE-STRUCTURED-LOCATION;VALUE=URI;X-ADDRESS=13485 Spring Hill Dr\, Spri
 ng Hill\, FL\, 34609\, United States;X-APPLE-RADIUS=100;X-TITLE=St. Joan o
 f Arc Parish Hall:geo:0,0
END:VEVENT
BEGIN:VTIMEZONE
TZID:America/New_York
X-LIC-LOCATION:America/New_York
BEGIN:DAYLIGHT
DTSTART:20260308T030000
TZOFFSETFROM:-0500
TZOFFSETTO:-0400
TZNAME:EDT
END:DAYLIGHT
END:VTIMEZONE
END:VCALENDAR