BEGIN:VCALENDAR
VERSION:2.0
PRODID:-//wp-events-plugin.com//7.2.3.1//EN
TZID:America/New_York
X-WR-TIMEZONE:America/New_York
BEGIN:VEVENT
UID:1759@floridasportscards.com
DTSTART;TZID=America/New_York:20260321T100000
DTEND;TZID=America/New_York:20260321T170000
DTSTAMP:20260120T010216Z
URL:https://floridasportscards.com/events/stuart-card-show-stuart-5/
SUMMARY:Stuart Card Show - Stuart
DESCRIPTION:
ATTACH;FMTTYPE=image/jpeg:https://floridasportscards.com/wp-content/upload
 s/2026/01/0321-Stuart.webp
CATEGORIES:Card Shows
LOCATION:Flagler at Stuart\, 201 SW Flagler Ave\, Stuart\, FL\, 34994\, Uni
 ted States
X-APPLE-STRUCTURED-LOCATION;VALUE=URI;X-ADDRESS=201 SW Flagler Ave\, Stuart
 \, FL\, 34994\, United States;X-APPLE-RADIUS=100;X-TITLE=Flagler at Stuart
 :geo:0,0
END:VEVENT
BEGIN:VTIMEZONE
TZID:America/New_York
X-LIC-LOCATION:America/New_York
BEGIN:DAYLIGHT
DTSTART:20260308T030000
TZOFFSETFROM:-0500
TZOFFSETTO:-0400
TZNAME:EDT
END:DAYLIGHT
END:VTIMEZONE
END:VCALENDAR