BEGIN:VCALENDAR
VERSION:2.0
PRODID:-//wp-events-plugin.com//7.2.3.1//EN
TZID:America/New_York
X-WR-TIMEZONE:America/New_York
BEGIN:VEVENT
UID:1415@floridasportscards.com
DTSTART;TZID=America/New_York:20260111T090000
DTEND;TZID=America/New_York:20260111T140000
DTSTAMP:20260105T004248Z
URL:https://floridasportscards.com/events/swfl-card-show-north-fort-myers-
 4/
SUMMARY:SWFL Card Show - North Fort Myers
DESCRIPTION:
ATTACH;FMTTYPE=image/jpeg:https://floridasportscards.com/wp-content/upload
 s/2025/10/0111-N-Ft-Myers.webp
CATEGORIES:Card Shows
LOCATION:Pondella Bingo\, 959 Pondella Rd\, Fort Myers\, FL\, 33903\, Unite
 d States
X-APPLE-STRUCTURED-LOCATION;VALUE=URI;X-ADDRESS=959 Pondella Rd\, Fort Myer
 s\, FL\, 33903\, United States;X-APPLE-RADIUS=100;X-TITLE=Pondella Bingo:g
 eo:0,0
END:VEVENT
BEGIN:VTIMEZONE
TZID:America/New_York
X-LIC-LOCATION:America/New_York
BEGIN:STANDARD
DTSTART:20251102T010000
TZOFFSETFROM:-0400
TZOFFSETTO:-0500
TZNAME:EST
END:STANDARD
END:VTIMEZONE
END:VCALENDAR