BEGIN:VCALENDAR
VERSION:2.0
PRODID:-//wp-events-plugin.com//7.2.3.1//EN
TZID:America/New_York
X-WR-TIMEZONE:America/New_York
BEGIN:VEVENT
UID:1838@floridasportscards.com
DTSTART;TZID=America/New_York:20260308T090000
DTEND;TZID=America/New_York:20260308T140000
DTSTAMP:20260225T184944Z
URL:https://floridasportscards.com/events/swfl-sports-card-show-naples-3/
SUMMARY:SWFL Sports Card Show - Naples
DESCRIPTION:SWFL SPorts Card Show in Naples\, FL
ATTACH;FMTTYPE=image/jpeg:https://floridasportscards.com/wp-content/upload
 s/2026/02/0308-Naples.webp
CATEGORIES:Card Shows
LOCATION:YMCA Naples\, 5450 YMCA Rd\, Naples\, FL\, 34109\, United States
X-APPLE-STRUCTURED-LOCATION;VALUE=URI;X-ADDRESS=5450 YMCA Rd\, Naples\, FL\
 , 34109\, United States;X-APPLE-RADIUS=100;X-TITLE=YMCA Naples:geo:0,0
END:VEVENT
BEGIN:VTIMEZONE
TZID:America/New_York
X-LIC-LOCATION:America/New_York
BEGIN:DAYLIGHT
DTSTART:20260308T030000
TZOFFSETFROM:-0500
TZOFFSETTO:-0400
TZNAME:EDT
END:DAYLIGHT
END:VTIMEZONE
END:VCALENDAR