BEGIN:VCALENDAR
VERSION:2.0
PRODID:-//wp-events-plugin.com//7.2.3.1//EN
TZID:America/New_York
X-WR-TIMEZONE:America/New_York
BEGIN:VEVENT
UID:1837@floridasportscards.com
DTSTART;TZID=America/New_York:20260322T090000
DTEND;TZID=America/New_York:20260322T140000
DTSTAMP:20260310T015736Z
URL:https://floridasportscards.com/events/swfl-sports-card-show-north-fort
 -myers-4/
SUMMARY:SWFL Sports Card Show - North Fort Myers
DESCRIPTION:February SWFL Sports Card Show in North Fort Myers
ATTACH;FMTTYPE=image/jpeg:https://floridasportscards.com/wp-content/upload
 s/2026/02/0322-SWFL.webp
CATEGORIES:Card Shows
LOCATION:Pondella Bingo\, 959 Pondella Rd\, Fort Myers\, FL\, 33903\, Unite
 d States
X-APPLE-STRUCTURED-LOCATION;VALUE=URI;X-ADDRESS=959 Pondella Rd\, Fort Myer
 s\, FL\, 33903\, United States;X-APPLE-RADIUS=100;X-TITLE=Pondella Bingo:g
 eo:0,0
END:VEVENT
BEGIN:VTIMEZONE
TZID:America/New_York
X-LIC-LOCATION:America/New_York
BEGIN:DAYLIGHT
DTSTART:20260308T030000
TZOFFSETFROM:-0500
TZOFFSETTO:-0400
TZNAME:EDT
END:DAYLIGHT
END:VTIMEZONE
END:VCALENDAR