BEGIN:VCALENDAR
VERSION:2.0
PRODID:-//wp-events-plugin.com//7.2.3.1//EN
TZID:America/New_York
X-WR-TIMEZONE:America/New_York
BEGIN:VEVENT
UID:2064@floridasportscards.com
DTSTART;TZID=America/New_York;VALUE=DATE:20260911
DTEND;TZID=America/New_York;VALUE=DATE:20260914
DTSTAMP:20260415T025107Z
URL:https://floridasportscards.com/events/swfl-super-card-show-ft-myers/
SUMMARY:SWFL Super Card Show - Ft. Myers
DESCRIPTION:\nHUGE ANNOUNCEMENT\nTHE SWFL 𝗦𝗨𝗣𝗘𝗥 CARD SHOW IS
  BACK\n\n\nWe heard you… and we’re running it back BIGGER THAN EVER.\n
 \n\nAfter that unreal 2.5 day run in February\, we had no choice but to le
 vel up again…\nThis time we’re taking over the LEE CIVIC CENTER (Mike 
 Greenwell Regional Park)\n70\,000+ SQFT OF PURE HOBBY GREATNESS.\n\n\n SEP
 TEMBER 11–13 | FORT MYERS\, FL \n\n\nWe’re pushing toward 400 TABLES o
 f:\n Sports Cards\n Pokémon\n One Piece\n Memorabilia\n…and everything 
 in between\n\n\nThis isn’t just a show… this is history in the making
 … again x2!\n\n\n WHAT’S EVEN BETTER THIS TIME:\n\n\n MASSIVE parking 
 lot — FREE PARKING\n Vendors get 8FT TABLES (more space!)\n FRIDAY: Vend
 or Setup + Trade Night\n SATURDAY &amp\; SUNDAY:\nVIP access + Main Event 
 rolling all day until 6PM\n  Huge giveaways BOTH DAYS\n  NFL WEEK 1 on the
  BIG SCREEN\n  PSA ON SITE for grading submissions!!\n  Multiple Food truc
 k lineup — different flavors each day\n  Family friendly — Kids 13 &am
 p\; under FREE\n\n\nThe most massive show to hit SWFL again x2\nThe deals\
 , the trades\, the energy\, the people… you felt it in February.\nNow im
 agine it… bigger\, louder\, &amp\; easier access!\n\n\nBring the family.
  Bring your cards. Bring that trade you’ve been waiting to make.\n\n\nLe
 t’s do it again ladies and gents!\n\n\n Vendor tables + tickets dropping
  soon… stay tuned.\n Tag your peeps let’s roll! We here we live!\n\n\n
 ——Sponsorships Packages Available——-\nText: 239-440-5204\n
ATTACH;FMTTYPE=image/jpeg:https://floridasportscards.com/wp-content/upload
 s/2026/04/0911-0913-SWFL.webp
CATEGORIES:Card Shows
LOCATION:Lee Civic Center\, 11831 Bayshore Dr\, Fort Myers\, FL\, 33917\, U
 nited States
X-APPLE-STRUCTURED-LOCATION;VALUE=URI;X-ADDRESS=11831 Bayshore Dr\, Fort My
 ers\, FL\, 33917\, United States;X-APPLE-RADIUS=100;X-TITLE=Lee Civic Cent
 er:geo:0,0
END:VEVENT
BEGIN:VTIMEZONE
TZID:America/New_York
X-LIC-LOCATION:America/New_York
BEGIN:DAYLIGHT
DTSTART:20260308T030000
TZOFFSETFROM:-0500
TZOFFSETTO:-0400
TZNAME:EDT
END:DAYLIGHT
END:VTIMEZONE
END:VCALENDAR