BEGIN:VCALENDAR
VERSION:2.0
PRODID:-//wp-events-plugin.com//7.2.3.1//EN
TZID:America/New_York
X-WR-TIMEZONE:America/New_York
BEGIN:VEVENT
UID:2077@floridasportscards.com
DTSTART;TZID=America/New_York:20260424T140000
DTEND;TZID=America/New_York:20260424T200000
DTSTAMP:20260421T020232Z
URL:https://floridasportscards.com/events/tampa-bay-sports-card-show-tampa
 -2-2026-04-24/
SUMMARY:Tampa Bay Sports Card Show - Tampa
DESCRIPTION:Tampa Bay Sports Card Show
ATTACH;FMTTYPE=image/jpeg:https://floridasportscards.com/wp-content/upload
 s/2024/03/tbcs.jpg
CATEGORIES:Card Shows
LOCATION:Holiday Inn - Tampa Airport Westshore\, 700 N Westshore Blvd\, Tam
 pa\, FL\, 33609\, United States
X-APPLE-STRUCTURED-LOCATION;VALUE=URI;X-ADDRESS=700 N Westshore Blvd\, Tamp
 a\, FL\, 33609\, United States;X-APPLE-RADIUS=100;X-TITLE=Holiday Inn - Ta
 mpa Airport Westshore:geo:0,0
END:VEVENT
BEGIN:VTIMEZONE
TZID:America/New_York
X-LIC-LOCATION:America/New_York
BEGIN:DAYLIGHT
DTSTART:20260308T030000
TZOFFSETFROM:-0500
TZOFFSETTO:-0400
TZNAME:EDT
END:DAYLIGHT
END:VTIMEZONE
END:VCALENDAR