BEGIN:VCALENDAR
VERSION:2.0
PRODID:-//wp-events-plugin.com//7.2.3.1//EN
TZID:America/New_York
X-WR-TIMEZONE:America/New_York
BEGIN:VEVENT
UID:2033@floridasportscards.com
DTSTART;TZID=America/New_York:20260405T090000
DTEND;TZID=America/New_York:20260405T150000
DTSTAMP:20260331T012855Z
URL:https://floridasportscards.com/events/tampa-bay-sports-card-show-tampa
 -2026-04-04-2026-04-05/
SUMMARY:Tampa Bay Sports Card Show - Tampa
DESCRIPTION:Tampa Bay Card show
ATTACH;FMTTYPE=image/jpeg:https://floridasportscards.com/wp-content/upload
 s/2026/03/0404-0405-Tampa.webp
CATEGORIES:Card Shows
LOCATION:Embassy Suites @ USF\, 3705 Spectrum Blvd\, Tampa\, FL\, United St
 ates
X-APPLE-STRUCTURED-LOCATION;VALUE=URI;X-ADDRESS=3705 Spectrum Blvd\, Tampa\
 , FL\, United States;X-APPLE-RADIUS=100;X-TITLE=Embassy Suites @ USF:geo:0
 ,0
END:VEVENT
BEGIN:VTIMEZONE
TZID:America/New_York
X-LIC-LOCATION:America/New_York
BEGIN:DAYLIGHT
DTSTART:20260308T030000
TZOFFSETFROM:-0500
TZOFFSETTO:-0400
TZNAME:EDT
END:DAYLIGHT
END:VTIMEZONE
END:VCALENDAR