BEGIN:VCALENDAR
VERSION:2.0
PRODID:-//wp-events-plugin.com//7.2.3.1//EN
TZID:America/New_York
X-WR-TIMEZONE:America/New_York
BEGIN:VEVENT
UID:1761@floridasportscards.com
DTSTART;TZID=America/New_York:20260124T090000
DTEND;TZID=America/New_York:20260124T150000
DTSTAMP:20260123T022042Z
URL:https://floridasportscards.com/events/tampa-bay-sports-card-show-tampa
 -8/
SUMMARY:Tampa Bay Sports Card Show - Tampa
DESCRIPTION:
ATTACH;FMTTYPE=image/jpeg:https://floridasportscards.com/wp-content/upload
 s/2026/01/0123-0124-Tampa.webp
CATEGORIES:Card Shows
LOCATION:Holiday Inn - Tampa Airport Westshore\, 700 N Westshore Blvd\, Tam
 pa\, FL\, 33609\, United States
X-APPLE-STRUCTURED-LOCATION;VALUE=URI;X-ADDRESS=700 N Westshore Blvd\, Tamp
 a\, FL\, 33609\, United States;X-APPLE-RADIUS=100;X-TITLE=Holiday Inn - Ta
 mpa Airport Westshore:geo:0,0
END:VEVENT
BEGIN:VTIMEZONE
TZID:America/New_York
X-LIC-LOCATION:America/New_York
BEGIN:STANDARD
DTSTART:20251102T010000
TZOFFSETFROM:-0400
TZOFFSETTO:-0500
TZNAME:EST
END:STANDARD
END:VTIMEZONE
END:VCALENDAR