BEGIN:VCALENDAR
VERSION:2.0
PRODID:-//wp-events-plugin.com//7.2.3.1//EN
TZID:America/New_York
X-WR-TIMEZONE:America/New_York
BEGIN:VEVENT
UID:1771@floridasportscards.com
DTSTART;TZID=America/New_York:20260207T100000
DTEND;TZID=America/New_York:20260207T190000
DTSTAMP:20260122T023505Z
URL:https://floridasportscards.com/events/tampa-tcg-megacon-palmetto-2026-
 02-06-2026-02-07/
SUMMARY:Tampa TCG Megacon - Palmetto
DESCRIPTION:
ATTACH;FMTTYPE=image/jpeg:https://floridasportscards.com/wp-content/upload
 s/2026/01/0206-0208-Tampa-TCG.png
CATEGORIES:Card Shows
LOCATION:Renaissance Arts and Education\, 700 Haben Blvd\, Palmetto\, FL\, 
 34221\, United States
X-APPLE-STRUCTURED-LOCATION;VALUE=URI;X-ADDRESS=700 Haben Blvd\, Palmetto\,
  FL\, 34221\, United States;X-APPLE-RADIUS=100;X-TITLE=Renaissance Arts an
 d Education:geo:0,0
END:VEVENT
BEGIN:VTIMEZONE
TZID:America/New_York
X-LIC-LOCATION:America/New_York
BEGIN:STANDARD
DTSTART:20251102T010000
TZOFFSETFROM:-0400
TZOFFSETTO:-0500
TZNAME:EST
END:STANDARD
END:VTIMEZONE
END:VCALENDAR