BEGIN:VCALENDAR
VERSION:2.0
PRODID:-//wp-events-plugin.com//7.2.3.1//EN
TZID:America/New_York
X-WR-TIMEZONE:America/New_York
BEGIN:VEVENT
UID:1419@floridasportscards.com
DTSTART;TZID=America/New_York:20260221T133000
DTEND;TZID=America/New_York:20260221T170000
DTSTAMP:20251029T162947Z
URL:https://floridasportscards.com/events/ted-dibiase-jake-the-snake-rober
 ts-autograph-signings-brandon/
SUMMARY:Ted DiBiase\, Jake "The Snake" Roberts Autograph Signings - Brandon
DESCRIPTION:
ATTACH;FMTTYPE=image/jpeg:https://floridasportscards.com/wp-content/upload
 s/2025/10/0221-Ted-DiBiase-Jake-the-Snake.jpg
CATEGORIES:Autograph Signings
LOCATION:Palm Beach Autographs - Brandon\, 311 Brandon Town Center\, Brando
 n\, FL\, 33511\, United States
X-APPLE-STRUCTURED-LOCATION;VALUE=URI;X-ADDRESS=311 Brandon Town Center\, B
 randon\, FL\, 33511\, United States;X-APPLE-RADIUS=100;X-TITLE=Palm Beach 
 Autographs - Brandon:geo:0,0
END:VEVENT
BEGIN:VTIMEZONE
TZID:America/New_York
X-LIC-LOCATION:America/New_York
BEGIN:STANDARD
DTSTART:20251102T010000
TZOFFSETFROM:-0400
TZOFFSETTO:-0500
TZNAME:EST
END:STANDARD
END:VTIMEZONE
END:VCALENDAR