BEGIN:VCALENDAR
VERSION:2.0
PRODID:-//wp-events-plugin.com//7.2.3.1//EN
TZID:America/New_York
X-WR-TIMEZONE:America/New_York
BEGIN:VEVENT
UID:2027@floridasportscards.com
DTSTART;TZID=America/Chicago:20260620T090000
DTEND;TZID=America/Chicago:20260620T150000
DTSTAMP:20260327T175233Z
URL:https://floridasportscards.com/events/the-850-card-show-panama-city-2/
SUMMARY:The 850 Card Show - Panama City
DESCRIPTION:
ATTACH;FMTTYPE=image/jpeg:https://floridasportscards.com/wp-content/upload
 s/2026/03/0619-0620-PCB-850.webp
CATEGORIES:Card Shows
LOCATION:Bay County Fairgrounds\, 2230 E 15th St\, Panama City\, FL\, Unite
 d States
X-APPLE-STRUCTURED-LOCATION;VALUE=URI;X-ADDRESS=2230 E 15th St\, Panama Cit
 y\, FL\, United States;X-APPLE-RADIUS=100;X-TITLE=Bay County Fairgrounds:g
 eo:0,0
END:VEVENT
BEGIN:VTIMEZONE
TZID:America/Chicago
X-LIC-LOCATION:America/Chicago
BEGIN:DAYLIGHT
DTSTART:20260308T030000
TZOFFSETFROM:-0600
TZOFFSETTO:-0500
TZNAME:CDT
END:DAYLIGHT
END:VTIMEZONE
END:VCALENDAR