BEGIN:VCALENDAR
VERSION:2.0
PRODID:-//wp-events-plugin.com//7.2.3.1//EN
TZID:America/New_York
X-WR-TIMEZONE:America/New_York
BEGIN:VEVENT
UID:1748@floridasportscards.com
DTSTART;TZID=America/New_York:20260425T090000
DTEND;TZID=America/New_York:20260425T150000
DTSTAMP:20260119T184518Z
URL:https://floridasportscards.com/events/the-850-show-tallahassee-3/
SUMMARY:The 850 Show - Tallahassee
DESCRIPTION:
ATTACH;FMTTYPE=image/jpeg:https://floridasportscards.com/wp-content/upload
 s/2026/01/850.webp
CATEGORIES:Card Shows
LOCATION:North Florida Fairgrounds\, 441 Paul Russell Rd\, Tallahassee\, FL
 \, 32301\, United States
X-APPLE-STRUCTURED-LOCATION;VALUE=URI;X-ADDRESS=441 Paul Russell Rd\, Talla
 hassee\, FL\, 32301\, United States;X-APPLE-RADIUS=100;X-TITLE=North Flori
 da Fairgrounds:geo:0,0
END:VEVENT
BEGIN:VTIMEZONE
TZID:America/New_York
X-LIC-LOCATION:America/New_York
BEGIN:DAYLIGHT
DTSTART:20260308T030000
TZOFFSETFROM:-0500
TZOFFSETTO:-0400
TZNAME:EDT
END:DAYLIGHT
END:VTIMEZONE
END:VCALENDAR