BEGIN:VCALENDAR
VERSION:2.0
PRODID:-//wp-events-plugin.com//7.2.3.1//EN
TZID:America/New_York
X-WR-TIMEZONE:America/New_York
BEGIN:VEVENT
UID:1273@floridasportscards.com
DTSTART;TZID=America/New_York:20260329T100000
DTEND;TZID=America/New_York:20260329T160000
DTSTAMP:20251003T030407Z
URL:https://floridasportscards.com/events/the-coral-springs-trading-card-s
 how-deerfield-beach-2/
SUMMARY:The Coral Springs Trading Card Show - Deerfield Beach
DESCRIPTION:
ATTACH;FMTTYPE=image/jpeg:https://floridasportscards.com/wp-content/upload
 s/2025/10/Coral-Springs-2026.jpg
CATEGORIES:Card Shows
LOCATION:Reign Volleyball\, 1501 Green Rd\, Deerfield Beach\, FL\, 33064\, 
 United States
X-APPLE-STRUCTURED-LOCATION;VALUE=URI;X-ADDRESS=1501 Green Rd\, Deerfield B
 each\, FL\, 33064\, United States;X-APPLE-RADIUS=100;X-TITLE=Reign Volleyb
 all:geo:0,0
END:VEVENT
BEGIN:VTIMEZONE
TZID:America/New_York
X-LIC-LOCATION:America/New_York
BEGIN:DAYLIGHT
DTSTART:20260308T030000
TZOFFSETFROM:-0500
TZOFFSETTO:-0400
TZNAME:EDT
END:DAYLIGHT
END:VTIMEZONE
END:VCALENDAR