BEGIN:VCALENDAR
VERSION:2.0
PRODID:-//wp-events-plugin.com//7.2.3.1//EN
TZID:America/New_York
X-WR-TIMEZONE:America/New_York
BEGIN:VEVENT
UID:1323@floridasportscards.com
DTSTART;TZID=America/New_York:20260117T090000
DTEND;TZID=America/New_York:20260117T160000
DTSTAMP:20260105T003431Z
URL:https://floridasportscards.com/events/the-duuuval-card-show-jacksonvil
 le-8/
SUMMARY:The Duuuval Card Show - Jacksonville
DESCRIPTION:
ATTACH;FMTTYPE=image/jpeg:https://floridasportscards.com/wp-content/upload
 s/2025/10/0116-0117-Duuuval-Card-Show.webp
CATEGORIES:Card Shows
LOCATION:Adam W. Herbert University Center\, 12000 Alumni Dr\, Jacksonville
 \, FL\, 32224\, United States
X-APPLE-STRUCTURED-LOCATION;VALUE=URI;X-ADDRESS=12000 Alumni Dr\, Jacksonvi
 lle\, FL\, 32224\, United States;X-APPLE-RADIUS=100;X-TITLE=Adam W. Herber
 t University Center:geo:0,0
END:VEVENT
BEGIN:VTIMEZONE
TZID:America/New_York
X-LIC-LOCATION:America/New_York
BEGIN:STANDARD
DTSTART:20251102T010000
TZOFFSETFROM:-0400
TZOFFSETTO:-0500
TZNAME:EST
END:STANDARD
END:VTIMEZONE
END:VCALENDAR