BEGIN:VCALENDAR
VERSION:2.0
PRODID:-//wp-events-plugin.com//7.2.3.1//EN
TZID:America/New_York
X-WR-TIMEZONE:America/New_York
BEGIN:VEVENT
UID:1239@floridasportscards.com
DTSTART;TZID=America/New_York:20260816T000000
DTEND;TZID=America/New_York:20260816T235900
DTSTAMP:20250912T031248Z
URL:https://floridasportscards.com/events/the-hobby-card-show-fort-lauderd
 ale-2-2026-08-15-2026-08-16/
SUMMARY:The Hobby Card Show - Fort Lauderdale
DESCRIPTION:
ATTACH;FMTTYPE=image/jpeg:https://floridasportscards.com/wp-content/upload
 s/2024/09/The-Hobby-Show.jpg
CATEGORIES:Card Shows
LOCATION:Broward County Convention Center\, 1950 Eisenhower Blvd\, Ft. Laud
 erdale\, FL\, 33316\, United States
X-APPLE-STRUCTURED-LOCATION;VALUE=URI;X-ADDRESS=1950 Eisenhower Blvd\, Ft. 
 Lauderdale\, FL\, 33316\, United States;X-APPLE-RADIUS=100;X-TITLE=Broward
  County Convention Center:geo:0,0
END:VEVENT
BEGIN:VTIMEZONE
TZID:America/New_York
X-LIC-LOCATION:America/New_York
BEGIN:DAYLIGHT
DTSTART:20260308T030000
TZOFFSETFROM:-0500
TZOFFSETTO:-0400
TZNAME:EDT
END:DAYLIGHT
END:VTIMEZONE
END:VCALENDAR