BEGIN:VCALENDAR
VERSION:2.0
PRODID:-//wp-events-plugin.com//7.2.3.1//EN
TZID:America/New_York
X-WR-TIMEZONE:America/New_York
BEGIN:VEVENT
UID:1476@floridasportscards.com
DTSTART;TZID=America/New_York:20260503T090000
DTEND;TZID=America/New_York:20260503T150000
DTSTAMP:20260105T002353Z
URL:https://floridasportscards.com/events/the-lake-worth-sports-cards-coll
 ectibles-show-greenacres-3-2026-05-03/
SUMMARY:The Lake Worth Sports Cards & Collectibles Show - Greenacres
DESCRIPTION:
ATTACH;FMTTYPE=image/jpeg:https://floridasportscards.com/wp-content/upload
 s/2025/11/Lake-Worth-112625-4.webp
CATEGORIES:Card Shows
LOCATION:American Polish Club\, 4725 Lake Worth Rd\, Greenacres\, FL\, 3346
 3\, United States
X-APPLE-STRUCTURED-LOCATION;VALUE=URI;X-ADDRESS=4725 Lake Worth Rd\, Greena
 cres\, FL\, 33463\, United States;X-APPLE-RADIUS=100;X-TITLE=American Poli
 sh Club:geo:0,0
END:VEVENT
BEGIN:VTIMEZONE
TZID:America/New_York
X-LIC-LOCATION:America/New_York
BEGIN:DAYLIGHT
DTSTART:20260308T030000
TZOFFSETFROM:-0500
TZOFFSETTO:-0400
TZNAME:EDT
END:DAYLIGHT
END:VTIMEZONE
END:VCALENDAR