BEGIN:VCALENDAR
VERSION:2.0
PRODID:-//wp-events-plugin.com//7.2.3.1//EN
TZID:America/New_York
X-WR-TIMEZONE:America/New_York
BEGIN:VEVENT
UID:1661@floridasportscards.com
DTSTART;TZID=America/New_York:20261121T100000
DTEND;TZID=America/New_York:20261121T160000
DTSTAMP:20260109T180128Z
URL:https://floridasportscards.com/events/the-nona-collects-card-show-orla
 ndo-2-2026-01-10-2026-03-14-2026-05-09-2026-07-11-2026-09-12-2026-11-14/
SUMMARY:The Nona Collects Card Show - Orlando
DESCRIPTION:
ATTACH;FMTTYPE=image/jpeg:https://floridasportscards.com/wp-content/upload
 s/2026/01/Nova-Collects.webp
CATEGORIES:Card Shows
LOCATION:Drive Shack - Lake Nona\, 7285 Corner Dr\, Orlando\, FL\, 32827\, 
 United States
X-APPLE-STRUCTURED-LOCATION;VALUE=URI;X-ADDRESS=7285 Corner Dr\, Orlando\, 
 FL\, 32827\, United States;X-APPLE-RADIUS=100;X-TITLE=Drive Shack - Lake N
 ona:geo:0,0
END:VEVENT
BEGIN:VTIMEZONE
TZID:America/New_York
X-LIC-LOCATION:America/New_York
BEGIN:STANDARD
DTSTART:20261101T010000
TZOFFSETFROM:-0400
TZOFFSETTO:-0500
TZNAME:EST
END:STANDARD
END:VTIMEZONE
END:VCALENDAR