BEGIN:VCALENDAR
VERSION:2.0
PRODID:-//wp-events-plugin.com//7.2.3.1//EN
TZID:America/New_York
X-WR-TIMEZONE:America/New_York
BEGIN:VEVENT
UID:1657@floridasportscards.com
DTSTART;TZID=America/New_York:20260314T100000
DTEND;TZID=America/New_York:20260314T160000
DTSTAMP:20260318T215445Z
URL:https://floridasportscards.com/events/the-nona-collects-card-show-orla
 ndo-2-2026-03-14/
SUMMARY:The Nona Collects Card Show - Orlando
DESCRIPTION:
ATTACH;FMTTYPE=image/jpeg:https://floridasportscards.com/wp-content/upload
 s/2026/01/Nova-Collects-Updated.webp
CATEGORIES:Card Shows
LOCATION:Sofive Soccer Centers\, 12314 Suttner Ave\, Orlando\, FL\, 32827\,
  United States
X-APPLE-STRUCTURED-LOCATION;VALUE=URI;X-ADDRESS=12314 Suttner Ave\, Orlando
 \, FL\, 32827\, United States;X-APPLE-RADIUS=100;X-TITLE=Sofive Soccer Cen
 ters:geo:0,0
END:VEVENT
BEGIN:VTIMEZONE
TZID:America/New_York
X-LIC-LOCATION:America/New_York
BEGIN:DAYLIGHT
DTSTART:20260308T030000
TZOFFSETFROM:-0500
TZOFFSETTO:-0400
TZNAME:EDT
END:DAYLIGHT
END:VTIMEZONE
END:VCALENDAR