BEGIN:VCALENDAR
VERSION:2.0
PRODID:-//wp-events-plugin.com//7.2.3.1//EN
TZID:America/New_York
X-WR-TIMEZONE:America/New_York
BEGIN:VEVENT
UID:1903@floridasportscards.com
DTSTART;TZID=America/New_York:20261218T150000
DTEND;TZID=America/New_York:20261218T200000
DTSTAMP:20260304T041518Z
URL:https://floridasportscards.com/events/the-orlando-card-show-apopka-202
 6-03-20-2026-04-17-2026-05-15-2026-06-19-2026-07-17-2026-08-21-2026-09-18-
 2026-10-16-2026-11-20-2026-12-18/
SUMMARY:The Orlando Card Show - Apopka
DESCRIPTION:
ATTACH;FMTTYPE=image/jpeg:https://floridasportscards.com/wp-content/upload
 s/2024/01/Orlando-Card-Show.png
CATEGORIES:Card Shows
LOCATION:Bahia Shriners\, 3101 E Semoran Blvd\, Apopka\, FL\, 32703\, Unite
 d States
X-APPLE-STRUCTURED-LOCATION;VALUE=URI;X-ADDRESS=3101 E Semoran Blvd\, Apopk
 a\, FL\, 32703\, United States;X-APPLE-RADIUS=100;X-TITLE=Bahia Shriners:g
 eo:0,0
END:VEVENT
BEGIN:VTIMEZONE
TZID:America/New_York
X-LIC-LOCATION:America/New_York
BEGIN:STANDARD
DTSTART:20261101T010000
TZOFFSETFROM:-0400
TZOFFSETTO:-0500
TZNAME:EST
END:STANDARD
END:VTIMEZONE
END:VCALENDAR