BEGIN:VCALENDAR
VERSION:2.0
PRODID:-//wp-events-plugin.com//7.2.3.1//EN
TZID:America/New_York
X-WR-TIMEZONE:America/New_York
BEGIN:VEVENT
UID:1799@floridasportscards.com
DTSTART;TZID=America/New_York:20260328T110000
DTEND;TZID=America/New_York:20260328T160000
DTSTAMP:20260304T045541Z
URL:https://floridasportscards.com/events/the-wellington-sports-trading-ca
 rd-show-wellington/
SUMMARY:The Wellington Sports & Trading Card Show - Wellington
DESCRIPTION:
ATTACH;FMTTYPE=image/jpeg:https://floridasportscards.com/wp-content/upload
 s/2026/01/0328-Wellington.webp
CATEGORIES:Card Shows
LOCATION:Wellington Community Center\, 12150 Forest Hill Blvd\, Wellington\
 , FL\, United States
X-APPLE-STRUCTURED-LOCATION;VALUE=URI;X-ADDRESS=12150 Forest Hill Blvd\, We
 llington\, FL\, United States;X-APPLE-RADIUS=100;X-TITLE=Wellington Commun
 ity Center:geo:0,0
END:VEVENT
BEGIN:VTIMEZONE
TZID:America/New_York
X-LIC-LOCATION:America/New_York
BEGIN:DAYLIGHT
DTSTART:20260308T030000
TZOFFSETFROM:-0500
TZOFFSETTO:-0400
TZNAME:EDT
END:DAYLIGHT
END:VTIMEZONE
END:VCALENDAR