BEGIN:VCALENDAR
VERSION:2.0
PRODID:-//wp-events-plugin.com//7.2.3.1//EN
TZID:America/New_York
X-WR-TIMEZONE:America/New_York
BEGIN:VEVENT
UID:1835@floridasportscards.com
DTSTART;TZID=America/New_York;VALUE=DATE:20260221
DTEND;TZID=America/New_York;VALUE=DATE:20260222
DTSTAMP:20260211T231511Z
URL:https://floridasportscards.com/events/topps-hobby-rip-night-at-big-lea
 gue-card-store-casselberry/
SUMMARY:Topps Hobby Rip Night at Big League Card Store - Casselberry
DESCRIPTION:
CATEGORIES:In-Store Event
LOCATION:Big League Cards Orlando\, 920 FL-436\, Casselberry\, FL\, 32707\,
  United States
X-APPLE-STRUCTURED-LOCATION;VALUE=URI;X-ADDRESS=920 FL-436\, Casselberry\, 
 FL\, 32707\, United States;X-APPLE-RADIUS=100;X-TITLE=Big League Cards Orl
 ando:geo:0,0
END:VEVENT
BEGIN:VTIMEZONE
TZID:America/New_York
X-LIC-LOCATION:America/New_York
BEGIN:STANDARD
DTSTART:20251102T010000
TZOFFSETFROM:-0400
TZOFFSETTO:-0500
TZNAME:EST
END:STANDARD
END:VTIMEZONE
END:VCALENDAR