BEGIN:VCALENDAR
VERSION:2.0
PRODID:-//wp-events-plugin.com//7.2.3.1//EN
TZID:America/New_York
X-WR-TIMEZONE:America/New_York
BEGIN:VEVENT
UID:1848@floridasportscards.com
DTSTART;TZID=America/New_York:20260221T160000
DTEND;TZID=America/New_York:20260221T160000
DTSTAMP:20260217T033304Z
URL:https://floridasportscards.com/events/topps-hobby-rip-night-at-mvp-spo
 rts-cards-jensen-beach/
SUMMARY:Topps Hobby Rip Night at MVP Sports Cards - Jensen Beach
DESCRIPTION:Topps Hobby Rip Night at MVP COllectibles in JEnsen Beach.
ATTACH;FMTTYPE=image/jpeg:https://floridasportscards.com/wp-content/upload
 s/2026/02/0221-MVP.webp
CATEGORIES:In-Store Event
LOCATION:MVP Sports Cards - Jensen Beach\, 3354 NW Federal Hwy\, Jensen Bea
 ch\, FL\, 34957\, United States
X-APPLE-STRUCTURED-LOCATION;VALUE=URI;X-ADDRESS=3354 NW Federal Hwy\, Jense
 n Beach\, FL\, 34957\, United States;X-APPLE-RADIUS=100;X-TITLE=MVP Sports
  Cards - Jensen Beach:geo:0,0
END:VEVENT
BEGIN:VTIMEZONE
TZID:America/New_York
X-LIC-LOCATION:America/New_York
BEGIN:STANDARD
DTSTART:20251102T010000
TZOFFSETFROM:-0400
TZOFFSETTO:-0500
TZNAME:EST
END:STANDARD
END:VTIMEZONE
END:VCALENDAR