BEGIN:VCALENDAR
VERSION:2.0
PRODID:-//wp-events-plugin.com//7.2.3.1//EN
TZID:America/New_York
X-WR-TIMEZONE:America/New_York
BEGIN:VEVENT
UID:1849@floridasportscards.com
DTSTART;TZID=America/New_York:20260221T160000
DTEND;TZID=America/New_York:20260221T160000
DTSTAMP:20260217T033300Z
URL:https://floridasportscards.com/events/topps-hobby-rip-night-at-mvp-spo
 rts-cards-melbourne/
SUMMARY:Topps Hobby Rip Night at MVP Sports Cards - Melbourne
DESCRIPTION:
ATTACH;FMTTYPE=image/jpeg:https://floridasportscards.com/wp-content/upload
 s/2026/02/0221-MVP.webp
CATEGORIES:In-Store Event
LOCATION:MVP Sports Cards - Melbourne\, 1700 W New Haven Ave\, Melbourne\, 
 FL\, 32901\, United States
X-APPLE-STRUCTURED-LOCATION;VALUE=URI;X-ADDRESS=1700 W New Haven Ave\, Melb
 ourne\, FL\, 32901\, United States;X-APPLE-RADIUS=100;X-TITLE=MVP Sports C
 ards - Melbourne:geo:0,0
END:VEVENT
BEGIN:VTIMEZONE
TZID:America/New_York
X-LIC-LOCATION:America/New_York
BEGIN:STANDARD
DTSTART:20251102T010000
TZOFFSETFROM:-0400
TZOFFSETTO:-0500
TZNAME:EST
END:STANDARD
END:VTIMEZONE
END:VCALENDAR