BEGIN:VCALENDAR
VERSION:2.0
PRODID:-//wp-events-plugin.com//7.2.3.1//EN
TZID:America/New_York
X-WR-TIMEZONE:America/New_York
BEGIN:VEVENT
UID:1844@floridasportscards.com
DTSTART;TZID=America/New_York;VALUE=DATE:20260221
DTEND;TZID=America/New_York;VALUE=DATE:20260222
DTSTAMP:20260212T221930Z
URL:https://floridasportscards.com/events/topps-rip-night-at-all-star-card
 s-collectibles-davie/
SUMMARY:Topps Rip Night at All-Star Cards & Collectibles - Davie
DESCRIPTION:
ATTACH;FMTTYPE=image/jpeg:https://floridasportscards.com/wp-content/upload
 s/2026/02/0221-All-star-Davie.webp
CATEGORIES:In-Store Event
LOCATION:All-Star Cards & Collectibles\, 4290 S University Dr\, Davie\, FL\
 , United States
X-APPLE-STRUCTURED-LOCATION;VALUE=URI;X-ADDRESS=4290 S University Dr\, Davi
 e\, FL\, United States;X-APPLE-RADIUS=100;X-TITLE=All-Star Cards & Collect
 ibles:geo:0,0
END:VEVENT
BEGIN:VTIMEZONE
TZID:America/New_York
X-LIC-LOCATION:America/New_York
BEGIN:STANDARD
DTSTART:20251102T010000
TZOFFSETFROM:-0400
TZOFFSETTO:-0500
TZNAME:EST
END:STANDARD
END:VTIMEZONE
END:VCALENDAR