BEGIN:VCALENDAR
VERSION:2.0
PRODID:-//wp-events-plugin.com//7.2.3.1//EN
TZID:America/New_York
X-WR-TIMEZONE:America/New_York
BEGIN:VEVENT
UID:1833@floridasportscards.com
DTSTART;TZID=America/New_York:20260221T150000
DTEND;TZID=America/New_York:20260221T190000
DTSTAMP:20260211T031500Z
URL:https://floridasportscards.com/events/topps-rip-night-at-avzen-sports-
 fort-myers/
SUMMARY:Topps Rip Night at Avzen Sports - Fort Myers
DESCRIPTION:Topps Rip Night at Avzen Sports in Fort Myers with special gues
 ts Andrew Morris\, Mick Abel and Travis Adams
ATTACH;FMTTYPE=image/jpeg:https://floridasportscards.com/wp-content/upload
 s/2026/02/0221-Avzen.webp
CATEGORIES:In-Store Event
LOCATION:Avzen Sports\, 16440 S Tamiami Tr #7\, Fort Myers\, FL\, 33908\, U
 nited States
X-APPLE-STRUCTURED-LOCATION;VALUE=URI;X-ADDRESS=16440 S Tamiami Tr #7\, For
 t Myers\, FL\, 33908\, United States;X-APPLE-RADIUS=100;X-TITLE=Avzen Spor
 ts:geo:0,0
END:VEVENT
BEGIN:VTIMEZONE
TZID:America/New_York
X-LIC-LOCATION:America/New_York
BEGIN:STANDARD
DTSTART:20251102T010000
TZOFFSETFROM:-0400
TZOFFSETTO:-0500
TZNAME:EST
END:STANDARD
END:VTIMEZONE
END:VCALENDAR